BEGIN:VCALENDAR
VERSION:2.0
PRODID:-//Derby City Dragons - ECPv6.15.18//NONSGML v1.0//EN
CALSCALE:GREGORIAN
METHOD:PUBLISH
X-WR-CALNAME:Derby City Dragons
X-ORIGINAL-URL:https://www.derbycitydragons.org
X-WR-CALDESC:Events for Derby City Dragons
REFRESH-INTERVAL;VALUE=DURATION:PT1H
X-Robots-Tag:noindex
X-PUBLISHED-TTL:PT1H
BEGIN:VTIMEZONE
TZID:America/Kentucky/Louisville
BEGIN:DAYLIGHT
TZOFFSETFROM:-0500
TZOFFSETTO:-0400
TZNAME:EDT
DTSTART:20220313T070000
END:DAYLIGHT
BEGIN:STANDARD
TZOFFSETFROM:-0400
TZOFFSETTO:-0500
TZNAME:EST
DTSTART:20221106T060000
END:STANDARD
BEGIN:DAYLIGHT
TZOFFSETFROM:-0500
TZOFFSETTO:-0400
TZNAME:EDT
DTSTART:20230312T070000
END:DAYLIGHT
BEGIN:STANDARD
TZOFFSETFROM:-0400
TZOFFSETTO:-0500
TZNAME:EST
DTSTART:20231105T060000
END:STANDARD
BEGIN:DAYLIGHT
TZOFFSETFROM:-0500
TZOFFSETTO:-0400
TZNAME:EDT
DTSTART:20240310T070000
END:DAYLIGHT
BEGIN:STANDARD
TZOFFSETFROM:-0400
TZOFFSETTO:-0500
TZNAME:EST
DTSTART:20241103T060000
END:STANDARD
END:VTIMEZONE
BEGIN:VEVENT
DTSTART;TZID=America/Kentucky/Louisville:20230722T080000
DTEND;TZID=America/Kentucky/Louisville:20230722T100000
DTSTAMP:20260419T131620
CREATED:20230706T215035Z
LAST-MODIFIED:20230706T215035Z
UID:13168-1690012800-1690020000@www.derbycitydragons.org
SUMMARY:Team Practice
DESCRIPTION:Paddling Members Only
URL:https://www.derbycitydragons.org/dcd-event/team-practice-5/
LOCATION:Louisville Community Boathouse\, 1325 River Road\, Louisville\, KY\, 40206\, United States
END:VEVENT
BEGIN:VEVENT
DTSTART;TZID=America/Kentucky/Louisville:20230718T174500
DTEND;TZID=America/Kentucky/Louisville:20230718T193000
DTSTAMP:20260419T131620
CREATED:20230706T214944Z
LAST-MODIFIED:20230706T215704Z
UID:13166-1689702300-1689708600@www.derbycitydragons.org
SUMMARY:Team Practice
DESCRIPTION:Paddling Members Only
URL:https://www.derbycitydragons.org/dcd-event/team-practice-4/
LOCATION:Louisville Community Boathouse\, 1325 River Road\, Louisville\, KY\, 40206\, United States
ORGANIZER;CN="Derby City Dragons":MAILTO:membership@derbycitydragons.org
END:VEVENT
BEGIN:VEVENT
DTSTART;TZID=America/Kentucky/Louisville:20230715T100000
DTEND;TZID=America/Kentucky/Louisville:20230715T110000
DTSTAMP:20260419T131620
CREATED:20230706T214658Z
LAST-MODIFIED:20230706T214658Z
UID:13160-1689415200-1689418800@www.derbycitydragons.org
SUMMARY:Board Meeting
DESCRIPTION:Board and Team Members Welcome
URL:https://www.derbycitydragons.org/dcd-event/board-meeting/
LOCATION:Haymarket by Ashbourne Farms\, 3020 River Road\, Louisville\, KY\, 40207\, United States
END:VEVENT
BEGIN:VEVENT
DTSTART;TZID=America/Kentucky/Louisville:20230715T080000
DTEND;TZID=America/Kentucky/Louisville:20230715T100000
DTSTAMP:20260419T131620
CREATED:20230706T214327Z
LAST-MODIFIED:20230706T214327Z
UID:13158-1689408000-1689415200@www.derbycitydragons.org
SUMMARY:Team Practice
DESCRIPTION:Paddling Members Only
URL:https://www.derbycitydragons.org/dcd-event/team-practice-3/
LOCATION:Louisville Community Boathouse\, 1325 River Road\, Louisville\, KY\, 40206\, United States
ORGANIZER;CN="Derby City Dragons":MAILTO:membership@derbycitydragons.org
END:VEVENT
BEGIN:VEVENT
DTSTART;TZID=America/Kentucky/Louisville:20230713T181500
DTEND;TZID=America/Kentucky/Louisville:20230713T191500
DTSTAMP:20260419T131620
CREATED:20230706T214225Z
LAST-MODIFIED:20230706T214225Z
UID:13156-1689272100-1689275700@www.derbycitydragons.org
SUMMARY:Abs/Balance/Core Workout
DESCRIPTION:Team Workout
URL:https://www.derbycitydragons.org/dcd-event/abs-balance-core-workout/
LOCATION:Gilda’s Club of Louisville\, 2440 Grinstead Dr\, Louisville\, KY\, 40204\, United States
ORGANIZER;CN="Derby City Dragons":MAILTO:membership@derbycitydragons.org
END:VEVENT
BEGIN:VEVENT
DTSTART;TZID=America/Kentucky/Louisville:20230711T174500
DTEND;TZID=America/Kentucky/Louisville:20230711T194500
DTSTAMP:20260419T131620
CREATED:20230706T214057Z
LAST-MODIFIED:20230706T214057Z
UID:13154-1689097500-1689104700@www.derbycitydragons.org
SUMMARY:Team Practice
DESCRIPTION:Paddling Members Only
URL:https://www.derbycitydragons.org/dcd-event/team-practice-2/
LOCATION:Louisville Community Boathouse\, 1325 River Road\, Louisville\, KY\, 40206\, United States
ORGANIZER;CN="Derby City Dragons":MAILTO:membership@derbycitydragons.org
END:VEVENT
BEGIN:VEVENT
DTSTART;TZID=America/Kentucky/Louisville:20230708T080000
DTEND;TZID=America/Kentucky/Louisville:20230708T100000
DTSTAMP:20260419T131620
CREATED:20230706T213822Z
LAST-MODIFIED:20230706T213822Z
UID:13151-1688803200-1688810400@www.derbycitydragons.org
SUMMARY:Team Practice
DESCRIPTION:Paddling Members Only
URL:https://www.derbycitydragons.org/dcd-event/team-practice/
LOCATION:Louisville Community Boathouse\, 1325 River Road\, Louisville\, KY\, 40206\, United States
ORGANIZER;CN="Derby City Dragons":MAILTO:membership@derbycitydragons.org
END:VEVENT
BEGIN:VEVENT
DTSTART;TZID=America/Kentucky/Louisville:20230610T080000
DTEND;TZID=America/Kentucky/Louisville:20230610T093000
DTSTAMP:20260419T131620
CREATED:20230527T192533Z
LAST-MODIFIED:20230527T192533Z
UID:13124-1686384000-1686389400@www.derbycitydragons.org
SUMMARY:Saturday Practice
DESCRIPTION:Paddling Members Only
URL:https://www.derbycitydragons.org/dcd-event/saturday-practice/
LOCATION:Louisville Community Boathouse\, 1325 River Road\, Louisville\, KY\, 40206\, United States
CATEGORIES:Saturday Morning Practice,Team Practice
ORGANIZER;CN="Derby City Dragons":MAILTO:membership@derbycitydragons.org
END:VEVENT
BEGIN:VEVENT
DTSTART;TZID=America/Kentucky/Louisville:20230601T181500
DTEND;TZID=America/Kentucky/Louisville:20230601T193000
DTSTAMP:20260419T131620
CREATED:20230527T205429Z
LAST-MODIFIED:20230527T205429Z
UID:13137-1685643300-1685647800@www.derbycitydragons.org
SUMMARY:Gilda's Workout
DESCRIPTION:Team Workout.  Ensure to also register at the Gilda’s website link.
URL:https://www.derbycitydragons.org/dcd-event/gildas-workout/
LOCATION:Gilda’s Club of Louisville\, 2440 Grinstead Dr\, Louisville\, KY\, 40204\, United States
CATEGORIES:Team Workout
ORGANIZER;CN="Derby City Dragons":MAILTO:membership@derbycitydragons.org
END:VEVENT
BEGIN:VEVENT
DTSTART;TZID=America/Kentucky/Louisville:20230530T174500
DTEND;TZID=America/Kentucky/Louisville:20230530T193000
DTSTAMP:20260419T131620
CREATED:20230527T204733Z
LAST-MODIFIED:20230527T204733Z
UID:13134-1685468700-1685475000@www.derbycitydragons.org
SUMMARY:Tuesday Practice
DESCRIPTION:
URL:https://www.derbycitydragons.org/dcd-event/tuesday-practice/
LOCATION:Louisville Community Boathouse\, 1325 River Road\, Louisville\, KY\, 40206\, United States
CATEGORIES:Team Practice
ORGANIZER;CN="Derby City Dragons":MAILTO:membership@derbycitydragons.org
END:VEVENT
END:VCALENDAR